BEGIN:VCALENDAR
VERSION:2.0
PRODID:-//Mt. Irenaeus - ECPv5.16.4.1//NONSGML v1.0//EN
CALSCALE:GREGORIAN
METHOD:PUBLISH
X-WR-CALNAME:Mt. Irenaeus
X-ORIGINAL-URL:https://mountainonline.org
X-WR-CALDESC:Events for Mt. Irenaeus
BEGIN:VTIMEZONE
TZID:America/New_York
BEGIN:DAYLIGHT
TZOFFSETFROM:-0500
TZOFFSETTO:-0400
TZNAME:EDT
DTSTART:20260308T070000
END:DAYLIGHT
BEGIN:STANDARD
TZOFFSETFROM:-0400
TZOFFSETTO:-0500
TZNAME:EST
DTSTART:20261101T060000
END:STANDARD
END:VTIMEZONE
BEGIN:VEVENT
DTSTART;TZID=America/New_York:20260701T171500
DTEND;TZID=America/New_York:20260729T210000
DTSTAMP:20260422T061640
CREATED:20260216T210611Z
LAST-MODIFIED:20260305T181001Z
UID:4160-1782926100-1785358800@mountainonline.org
SUMMARY:Wednesday Evenings of Re-Creation 2025
DESCRIPTION:As in the past\, this summer’s Evenings of Re-Creation will be held rain or shine and will begin with Evening Prayer in the Chapel followed by time on the land and supper. \nThis year\, our Evenings of Re-Creation will be held on every Wednesday in July: \nJuly 1\, 8\, 15\, 22 and 29 \nAfter our dish to pass supper\, join us in the Chapel for Mass. During the homily\, we will have time for an open “conversatio.”  The evenings will conclude around 9 pm.  You are invited to come to any or all of the evenings. \nOur schedule is approximately as follows: \n\n\n\n5:15 pm – Meet in the Chapel for evening prayer followed by quiet time on the land\n6:30 pm – Dish to pass supper\n7:30 pm – Mass in the Chapel\n9 pm – End of program and departure from the Mountain\n\n\n\nIf you wish to spend the night with us\, please call Fr. Lou to ask for availability.  585-973-2470 \nNo need to register!  It was mistakenly announced that you need to register but you do not\, just come on up and be with us for the evening.  
URL:https://mountainonline.org/event/wednesday-evenings-of-re-creation-2025/
LOCATION:Mt. Irenaeus\, 3621 Roberts Rd\, Friendship\, 14739\, United States
CATEGORIES:Evenings of Re-Creation
ATTACH;FMTTYPE=image/jpeg:https://mountainonline.org/wp-content/uploads/2021/05/2019-Chapel-that-looks-like-a-watercolor-scaled.jpg
END:VEVENT
END:VCALENDAR