BEGIN:VCALENDAR
VERSION:2.0
PRODID:-//Mt. Irenaeus - ECPv5.16.4.1//NONSGML v1.0//EN
CALSCALE:GREGORIAN
METHOD:PUBLISH
X-WR-CALNAME:Mt. Irenaeus
X-ORIGINAL-URL:https://mountainonline.org
X-WR-CALDESC:Events for Mt. Irenaeus
BEGIN:VTIMEZONE
TZID:America/New_York
BEGIN:DAYLIGHT
TZOFFSETFROM:-0500
TZOFFSETTO:-0400
TZNAME:EDT
DTSTART:20230312T070000
END:DAYLIGHT
BEGIN:STANDARD
TZOFFSETFROM:-0400
TZOFFSETTO:-0500
TZNAME:EST
DTSTART:20231105T060000
END:STANDARD
END:VTIMEZONE
BEGIN:VEVENT
DTSTART;TZID=America/New_York:20231202T140000
DTEND;TZID=America/New_York:20231203T140000
DTSTAMP:20260422T085637
CREATED:20231005T184424Z
LAST-MODIFIED:20231031T144222Z
UID:2869-1701525600-1701612000@mountainonline.org
SUMMARY:SBU Students Advent Overnight
DESCRIPTION:Come help us decorate the tree and make a wreath using real pine boughs!  This overnight is an experience that will not disappoint.  We will decorate the tree that Br. Joe cut from the property.  Learn how to assemble and decorate a wreath that will be hung outside on the House of Peace for all visitors to see.  Help make dinner and then enjoy cocoa and cookies with friends while sitting snug around the fireplace. \nYour youth and excitement are greatly appreciated as you help the Mountain community get the House of Peace ready for the celebration of Christmas! \nThe Mountain vehicles will leave Café La Verna at 1 p.m. on Saturday\, Dec 2 and return Sunday after Mass and brunch. \nIf you’re driving yourself\, please use the directions HERE on our website as GPS gets people lost or stuck in the mud. \nMake sure to wear warm clothing as we usually go outside and help Br. Joe hang the wreath.  And please take lots of pictures and send them to Mary at mgiardin@sbu.edu \nSign up below to let us know you are joining us!
URL:https://mountainonline.org/event/sbu-students-advent-overnight-save-the-date/
CATEGORIES:Weekend Events
ATTACH;FMTTYPE=image/jpeg:https://mountainonline.org/wp-content/uploads/2021/11/IMG_6783.jpg
END:VEVENT
END:VCALENDAR