BEGIN:VCALENDAR
VERSION:2.0
PRODID:-//Mt. Irenaeus - ECPv5.16.4.1//NONSGML v1.0//EN
CALSCALE:GREGORIAN
METHOD:PUBLISH
X-WR-CALNAME:Mt. Irenaeus
X-ORIGINAL-URL:https://mountainonline.org
X-WR-CALDESC:Events for Mt. Irenaeus
BEGIN:VTIMEZONE
TZID:America/New_York
BEGIN:DAYLIGHT
TZOFFSETFROM:-0500
TZOFFSETTO:-0400
TZNAME:EDT
DTSTART:20260308T070000
END:DAYLIGHT
BEGIN:STANDARD
TZOFFSETFROM:-0400
TZOFFSETTO:-0500
TZNAME:EST
DTSTART:20261101T060000
END:STANDARD
END:VTIMEZONE
BEGIN:VEVENT
DTSTART;TZID=America/New_York:20260531T140000
DTEND;TZID=America/New_York:20260531T160000
DTSTAMP:20260422T060951
CREATED:20260416T232315Z
LAST-MODIFIED:20260416T232614Z
UID:4221-1780236000-1780243200@mountainonline.org
SUMMARY:I Leave Peaceprints: The Story of Sr. Karen Klimczak\, SSJ presented by Sr. Jean Klimczak\, SSJ
DESCRIPTION:I Leave Peaceprints:  The Story of Sister Karen Klimczak\, SSJ\nYou are invited to join us at the Mountain on Sunday\, May 31 for a very special presentation by Sr. Jean Klimczak\, the biological sister of the founder of Peaceprints\, Sr. Karen Klimczak. Sr. Jean will be speaking about the process of Karen’s conversion to non-violence. \nPlease note this is a change of date. \nThis year marked the 20th anniversary of the death of Sr. Karen Klimczak. \nOn the website of Peaceprints Inc. they write:\n…imagined by our founder Sr. Karen Klimczak as a commitment to spreading peace\, the “I Leave Peaceprints” lawn doves have come to symbolize hope and healing in our community. By displaying the dove\, our community demonstrates its commitment to acting with intentional nonviolence- not simply the absence of physical violence\, but a condemnation of the divisions we create when we fail to listen\, respect\, or empathize with others who differ from us in their race\, gender\, sexual orientation\, or beliefs. \nWe encourage you to be with us at the Mountain on May 31\, but we will have an online option for those who are not able to join us physically. \nPlease save the date and more information will be shared in the coming weeks.
URL:https://mountainonline.org/event/i-leave-peaceprints-the-story-of-sr-jean-klimczak-ssj/
ATTACH;FMTTYPE=image/jpeg:https://mountainonline.org/wp-content/uploads/2026/04/Sr.-Jean-Klimczak.jpg
END:VEVENT
END:VCALENDAR